BEGIN:VCALENDAR
VERSION:2.0
PRODID:-//Harmonie Euterpe - ECPv6.4.0.1//NONSGML v1.0//EN
CALSCALE:GREGORIAN
METHOD:PUBLISH
X-WR-CALNAME:Harmonie Euterpe
X-ORIGINAL-URL:https://harmonieeuterpe.nl
X-WR-CALDESC:Evenementen voor Harmonie Euterpe
REFRESH-INTERVAL;VALUE=DURATION:PT1H
X-Robots-Tag:noindex
X-PUBLISHED-TTL:PT1H
BEGIN:VTIMEZONE
TZID:Europe/Amsterdam
BEGIN:DAYLIGHT
TZOFFSETFROM:+0100
TZOFFSETTO:+0200
TZNAME:CEST
DTSTART:20240331T010000
END:DAYLIGHT
BEGIN:STANDARD
TZOFFSETFROM:+0200
TZOFFSETTO:+0100
TZNAME:CET
DTSTART:20241027T010000
END:STANDARD
END:VTIMEZONE
BEGIN:VEVENT
DTSTART;TZID=Europe/Amsterdam:20240914T130000
DTEND;TZID=Europe/Amsterdam:20240914T161500
DTSTAMP:20260419T175347
CREATED:20240628T160327Z
LAST-MODIFIED:20240807T124932Z
UID:7206-1726318800-1726330500@harmonieeuterpe.nl
SUMMARY:Uitfestival Emmen
DESCRIPTION:Op zaterdag 14 september vieren we de opening van het nieuwe culturele seizoen met het Uitfestival in Emmen. Voor het eerst zijn al onze orkesten vertegenwoordigd in het Atlas Theater in Emmen. Laat je verwonderen\, inspireren en vermaken! \n13.00 – Zoo Mooi 2\n13.25 – Zoo Mooi 1\n15.30 – Concertorkest
URL:https://harmonieeuterpe.nl/event/uitfestival-emmen-2024/
LOCATION:ATLAS Theater\, Raadhuisplein 100\, Emmen\, Drenthe\, 7811 AP\, Nederland
CATEGORIES:Gastoptreden
ATTACH;FMTTYPE=image/jpeg:https://harmonieeuterpe.nl/wp-content/uploads/2023/07/Uitfestival-2023.jpg
END:VEVENT
END:VCALENDAR